BEGIN:VCALENDAR
VERSION:2.0
PRODID:-//Family Resource Center - ECPv6.15.20//NONSGML v1.0//EN
CALSCALE:GREGORIAN
METHOD:PUBLISH
X-ORIGINAL-URL:https://familyresourcesheboygan.org
X-WR-CALDESC:Events for Family Resource Center
REFRESH-INTERVAL;VALUE=DURATION:PT1H
X-Robots-Tag:noindex
X-PUBLISHED-TTL:PT1H
BEGIN:VTIMEZONE
TZID:America/Chicago
BEGIN:DAYLIGHT
TZOFFSETFROM:-0600
TZOFFSETTO:-0500
TZNAME:CDT
DTSTART:20230312T080000
END:DAYLIGHT
BEGIN:STANDARD
TZOFFSETFROM:-0500
TZOFFSETTO:-0600
TZNAME:CST
DTSTART:20231105T070000
END:STANDARD
BEGIN:DAYLIGHT
TZOFFSETFROM:-0600
TZOFFSETTO:-0500
TZNAME:CDT
DTSTART:20240310T080000
END:DAYLIGHT
BEGIN:STANDARD
TZOFFSETFROM:-0500
TZOFFSETTO:-0600
TZNAME:CST
DTSTART:20241103T070000
END:STANDARD
BEGIN:DAYLIGHT
TZOFFSETFROM:-0600
TZOFFSETTO:-0500
TZNAME:CDT
DTSTART:20250309T080000
END:DAYLIGHT
BEGIN:STANDARD
TZOFFSETFROM:-0500
TZOFFSETTO:-0600
TZNAME:CST
DTSTART:20251102T070000
END:STANDARD
END:VTIMEZONE
BEGIN:VEVENT
DTSTART;TZID=America/Chicago:20240702T100000
DTEND;TZID=America/Chicago:20240702T110000
DTSTAMP:20260422T145923
CREATED:20240419T160300Z
LAST-MODIFIED:20240626T144615Z
UID:5015-1719914400-1719918000@familyresourcesheboygan.org
SUMMARY:‘MEAT’ US AT: TEXAS ROADHOUSE
DESCRIPTION:Join us at Texas Roadhouse for an hour of learning about the restaurant\, in a fun way! Take a tour\, participate in a scavenger hunt\, taste their famous dinner rolls\, and play outdoor games! (Registration required by July 1st.) \n(RESCHEDULED FROM JUNE 25TH DUE TO WEATHER.)
URL:https://familyresourcesheboygan.org/event/meat-us-at-texas-roadhouse/
LOCATION:Texas Roadhouse\, 4304 Gander Road\, Sheboygan\, WI\, 53083\, United States
CATEGORIES:Family Activities
ATTACH;FMTTYPE=image/png:https://familyresourcesheboygan.org/wp-content/uploads/2024/04/Meat-us-At-Texas-Roadhouse.png
END:VEVENT
END:VCALENDAR