BEGIN:VCALENDAR
VERSION:2.0
PRODID:-//Family Resource Center - ECPv6.15.20//NONSGML v1.0//EN
CALSCALE:GREGORIAN
METHOD:PUBLISH
X-WR-CALNAME:Family Resource Center
X-ORIGINAL-URL:https://familyresourcesheboygan.org
X-WR-CALDESC:Events for Family Resource Center
REFRESH-INTERVAL;VALUE=DURATION:PT1H
X-Robots-Tag:noindex
X-PUBLISHED-TTL:PT1H
BEGIN:VTIMEZONE
TZID:America/Chicago
BEGIN:DAYLIGHT
TZOFFSETFROM:-0600
TZOFFSETTO:-0500
TZNAME:CDT
DTSTART:20200308T080000
END:DAYLIGHT
BEGIN:STANDARD
TZOFFSETFROM:-0500
TZOFFSETTO:-0600
TZNAME:CST
DTSTART:20201101T070000
END:STANDARD
BEGIN:DAYLIGHT
TZOFFSETFROM:-0600
TZOFFSETTO:-0500
TZNAME:CDT
DTSTART:20210314T080000
END:DAYLIGHT
BEGIN:STANDARD
TZOFFSETFROM:-0500
TZOFFSETTO:-0600
TZNAME:CST
DTSTART:20211107T070000
END:STANDARD
BEGIN:DAYLIGHT
TZOFFSETFROM:-0600
TZOFFSETTO:-0500
TZNAME:CDT
DTSTART:20220313T080000
END:DAYLIGHT
BEGIN:STANDARD
TZOFFSETFROM:-0500
TZOFFSETTO:-0600
TZNAME:CST
DTSTART:20221106T070000
END:STANDARD
BEGIN:DAYLIGHT
TZOFFSETFROM:-0600
TZOFFSETTO:-0500
TZNAME:CDT
DTSTART:20230312T080000
END:DAYLIGHT
BEGIN:STANDARD
TZOFFSETFROM:-0500
TZOFFSETTO:-0600
TZNAME:CST
DTSTART:20231105T070000
END:STANDARD
END:VTIMEZONE
BEGIN:VEVENT
DTSTART;TZID=America/Chicago:20220304T080000
DTEND;TZID=America/Chicago:20220304T120000
DTSTAMP:20260422T190547
CREATED:20220222T160132Z
LAST-MODIFIED:20220222T160132Z
UID:1433-1646380800-1646395200@familyresourcesheboygan.org
SUMMARY:Developmental Screening Day
DESCRIPTION:Want to see if your child’s development is on track? Along with our community partners\, we are again offering another free Developmental Screening Day for children 6 months to 5 years.\nYour child’s development will be assessed in these areas: \n\nLanguage\nProblem solving\nFine and large motor skills\nPersonal-Social\n\nBenefits of attending Developmental Screenings: \n\nCelebrate your child’s development\nSupport your child’s school readiness skills\nReceive parenting information and resources\nEarly detection of potential developmental delays\n\n*Masks are strongly encouraged. If you do not have a mask\, they will be available upon entry. Thank you for keeping everyone safe and healthy!\n\nThree Easy Ways to Register:\nREGISTER ONLINE: https://bit.ly/32mhzEP\nREGISTER BY EMAIL:  cposewitz@frc-sc-org\nREGISTER BY PHONE:  920-892-6706
URL:https://familyresourcesheboygan.org/event/developmental-screening-day-2/
LOCATION:FRC at Generations\, 1500 Douglas Drive\, Plymouth\, WI\, 53073\, United States
CATEGORIES:Parenting Support
ATTACH;FMTTYPE=image/jpeg:https://familyresourcesheboygan.org/wp-content/uploads/2022/02/developmental-screening-family-resource-center-sheboygan-county.jpg
ORGANIZER;CN="Family Resource Center":MAILTO:PAT@frc-sc.org
END:VEVENT
BEGIN:VEVENT
DTSTART;TZID=America/Chicago:20220303T150000
DTEND;TZID=America/Chicago:20220303T190000
DTSTAMP:20260422T190547
CREATED:20220222T160022Z
LAST-MODIFIED:20220222T160022Z
UID:1430-1646319600-1646334000@familyresourcesheboygan.org
SUMMARY:Developmental Screening Day
DESCRIPTION:Want to see if your child’s development is on track? Along with our community partners\, we are again offering another free Developmental Screening Day for children 6 months to 5 years.\nYour child’s development will be assessed in these areas: \n\nLanguage\nProblem solving\nFine and large motor skills\nPersonal-Social\n\nBenefits of attending Developmental Screenings: \n\nCelebrate your child’s development\nSupport your child’s school readiness skills\nReceive parenting information and resources\nEarly detection of potential developmental delays\n\n*Masks are strongly encouraged. If you do not have a mask\, they will be available upon entry. Thank you for keeping everyone safe and healthy!\n\nThree Easy Ways to Register:\nREGISTER ONLINE: https://bit.ly/32mhzEP\nREGISTER BY EMAIL:  cposewitz@frc-sc-org\nREGISTER BY PHONE:  920-892-6706
URL:https://familyresourcesheboygan.org/event/developmental-screening-day/
LOCATION:FRC at Generations\, 1500 Douglas Drive\, Plymouth\, WI\, 53073\, United States
CATEGORIES:Parenting Support
ATTACH;FMTTYPE=image/jpeg:https://familyresourcesheboygan.org/wp-content/uploads/2022/02/developmental-screening-family-resource-center-sheboygan-county.jpg
ORGANIZER;CN="Family Resource Center":MAILTO:PAT@frc-sc.org
END:VEVENT
BEGIN:VEVENT
DTSTART;TZID=America/Chicago:20211201T090000
DTEND;TZID=America/Chicago:20211201T100000
DTSTAMP:20260422T190547
CREATED:20211029T050110Z
LAST-MODIFIED:20211105T161707Z
UID:587-1638349200-1638352800@familyresourcesheboygan.org
SUMMARY:Little Movers Playgroup Ages 2-4
DESCRIPTION:Children ages 2 – 4 and their caregivers are invited to join our upcoming facilitated playgroups. These free playgroups offer fun opportunities for children to participate in age-appropriate activities that stimulate learning\, develop motor skills and encourage social interaction. Little Movers is offered in partnership by Rehab Resources Inc. and the Family Resource Center. Adults are required to wear masks. \n*1st Wednesday of the each month\, Starting October 6th\, 2021
URL:https://familyresourcesheboygan.org/event/little-movers-playgroup-ages-2-4/
LOCATION:FRC at Generations\, 1500 Douglas Drive\, Plymouth\, WI\, 53073\, United States
ATTACH;FMTTYPE=image/jpeg:https://familyresourcesheboygan.org/wp-content/uploads/2021/10/little-movers-playgroup-family-resource-center-sheboygan-county.jpg
ORGANIZER;CN="Family Resource Center":MAILTO:PAT@frc-sc.org
END:VEVENT
END:VCALENDAR