BEGIN:VCALENDAR
VERSION:2.0
PRODID:-//Family Resource Center - ECPv6.15.19//NONSGML v1.0//EN
CALSCALE:GREGORIAN
METHOD:PUBLISH
X-WR-CALNAME:Family Resource Center
X-ORIGINAL-URL:https://familyresourcesheboygan.org
X-WR-CALDESC:Events for Family Resource Center
REFRESH-INTERVAL;VALUE=DURATION:PT1H
X-Robots-Tag:noindex
X-PUBLISHED-TTL:PT1H
BEGIN:VTIMEZONE
TZID:America/Chicago
BEGIN:DAYLIGHT
TZOFFSETFROM:-0600
TZOFFSETTO:-0500
TZNAME:CDT
DTSTART:20240310T080000
END:DAYLIGHT
BEGIN:STANDARD
TZOFFSETFROM:-0500
TZOFFSETTO:-0600
TZNAME:CST
DTSTART:20241103T070000
END:STANDARD
BEGIN:DAYLIGHT
TZOFFSETFROM:-0600
TZOFFSETTO:-0500
TZNAME:CDT
DTSTART:20250309T080000
END:DAYLIGHT
BEGIN:STANDARD
TZOFFSETFROM:-0500
TZOFFSETTO:-0600
TZNAME:CST
DTSTART:20251102T070000
END:STANDARD
BEGIN:DAYLIGHT
TZOFFSETFROM:-0600
TZOFFSETTO:-0500
TZNAME:CDT
DTSTART:20260308T080000
END:DAYLIGHT
BEGIN:STANDARD
TZOFFSETFROM:-0500
TZOFFSETTO:-0600
TZNAME:CST
DTSTART:20261101T070000
END:STANDARD
END:VTIMEZONE
BEGIN:VEVENT
DTSTART;TZID=America/Chicago:20250828T140000
DTEND;TZID=America/Chicago:20250828T150000
DTSTAMP:20260419T193521
CREATED:20250509T173542Z
LAST-MODIFIED:20250509T173542Z
UID:6477-1756389600-1756393200@familyresourcesheboygan.org
SUMMARY:SENSATIONAL BABIES: Infant Massage 5-Week Series
DESCRIPTION:Learn relaxing massage routines\, identify cues and behavioral states\, and learn methods to stay connected as baby grows. We gradually introduce new strokes over the course of 5 weeks while you build attachment and community with other parents & caregivers. \nFREE\,  5-week session (all 5 Thursdays are required- August 28\, 2025- September 25\, 2025) 2:00 P.M.-3:00 P.M. You just need you and your baby! Class is taught by Certified Educators of Infant Massage (CEIMs). \nRecommended for Infants- 8 weeks-Pre-crawling. Class is open to the public/community. \n(Registration required by August 22\, 2025.) \n(Online donations are appreciated and can be made by clicking the green “Donate” box above.) \n 
URL:https://familyresourcesheboygan.org/event/sensational-babies-infant-massage-5-week-series-8/
LOCATION:Family Connections\, 2508 S. 8th Street\, Sheboygan\, WI\, United States
CATEGORIES:Family Activities,Parenting Classes
ATTACH;FMTTYPE=image/png:https://familyresourcesheboygan.org/wp-content/uploads/2024/11/massage.png
END:VEVENT
END:VCALENDAR