BEGIN:VCALENDAR
VERSION:2.0
PRODID:-//Family Resource Center - ECPv6.15.19//NONSGML v1.0//EN
CALSCALE:GREGORIAN
METHOD:PUBLISH
X-WR-CALNAME:Family Resource Center
X-ORIGINAL-URL:https://familyresourcesheboygan.org
X-WR-CALDESC:Events for Family Resource Center
REFRESH-INTERVAL;VALUE=DURATION:PT1H
X-Robots-Tag:noindex
X-PUBLISHED-TTL:PT1H
BEGIN:VTIMEZONE
TZID:America/Chicago
BEGIN:DAYLIGHT
TZOFFSETFROM:-0600
TZOFFSETTO:-0500
TZNAME:CDT
DTSTART:20200308T080000
END:DAYLIGHT
BEGIN:STANDARD
TZOFFSETFROM:-0500
TZOFFSETTO:-0600
TZNAME:CST
DTSTART:20201101T070000
END:STANDARD
BEGIN:DAYLIGHT
TZOFFSETFROM:-0600
TZOFFSETTO:-0500
TZNAME:CDT
DTSTART:20210314T080000
END:DAYLIGHT
BEGIN:STANDARD
TZOFFSETFROM:-0500
TZOFFSETTO:-0600
TZNAME:CST
DTSTART:20211107T070000
END:STANDARD
BEGIN:DAYLIGHT
TZOFFSETFROM:-0600
TZOFFSETTO:-0500
TZNAME:CDT
DTSTART:20220313T080000
END:DAYLIGHT
BEGIN:STANDARD
TZOFFSETFROM:-0500
TZOFFSETTO:-0600
TZNAME:CST
DTSTART:20221106T070000
END:STANDARD
END:VTIMEZONE
BEGIN:VEVENT
DTSTART;TZID=America/Chicago:20211202T060000
DTEND;TZID=America/Chicago:20211202T170000
DTSTAMP:20260419T230349
CREATED:20211028T163759Z
LAST-MODIFIED:20211105T195804Z
UID:501-1638424800-1638464400@familyresourcesheboygan.org
SUMMARY:HANDS-ON HOLIDAY EVENT
DESCRIPTION:Join us for a hands-on holiday event where you and your child can interact with sensory items\, make & take crafts\, decorate holiday cookies\, and more! Appropriate for: Adult caregivers and children ages 12-36 months. (Masks are required for all adults and children over the age of 2.) Register by Monday\, November 29\, 2021
URL:https://familyresourcesheboygan.org/event/example-event/
LOCATION:Mead Library\, Sheboygan\, 710 N 8th St\, Sheboygan\, WI\, 53081\, United States
END:VEVENT
BEGIN:VEVENT
DTSTART;TZID=America/Chicago:20211201T090000
DTEND;TZID=America/Chicago:20211201T100000
DTSTAMP:20260419T230349
CREATED:20211029T050110Z
LAST-MODIFIED:20211105T161707Z
UID:587-1638349200-1638352800@familyresourcesheboygan.org
SUMMARY:Little Movers Playgroup Ages 2-4
DESCRIPTION:Children ages 2 – 4 and their caregivers are invited to join our upcoming facilitated playgroups. These free playgroups offer fun opportunities for children to participate in age-appropriate activities that stimulate learning\, develop motor skills and encourage social interaction. Little Movers is offered in partnership by Rehab Resources Inc. and the Family Resource Center. Adults are required to wear masks. \n*1st Wednesday of the each month\, Starting October 6th\, 2021
URL:https://familyresourcesheboygan.org/event/little-movers-playgroup-ages-2-4/
LOCATION:FRC at Generations\, 1500 Douglas Drive\, Plymouth\, WI\, 53073\, United States
ATTACH;FMTTYPE=image/jpeg:https://familyresourcesheboygan.org/wp-content/uploads/2021/10/little-movers-playgroup-family-resource-center-sheboygan-county.jpg
ORGANIZER;CN="Family Resource Center":MAILTO:PAT@frc-sc.org
END:VEVENT
BEGIN:VEVENT
DTSTART;TZID=America/Chicago:20211116T100000
DTEND;TZID=America/Chicago:20211116T110000
DTSTAMP:20260419T230349
CREATED:20211028T170902Z
LAST-MODIFIED:20211105T163428Z
UID:523-1637056800-1637060400@familyresourcesheboygan.org
SUMMARY:Tummy Time Together
DESCRIPTION:Babies learn many large and small motor skills in the first months of life\, and they do it best when they get lots of practice! This interactive\, virtual class for parents and babies who are not yet crawling will include activities to help children learn and grow stronger each day. Learn about typical development and the pros and cons of baby equipment. \nWHEN: Tuesday\, November 16\, 2021\, 10:00-11:00 am.\nWHERE: Via Zoom. Link to join will be emailed after you register.\nWHO: Adult caregivers and babies who are not yet crawling.\nCOST: FREE\nPlease register by Tuesday\, November 9\, 2021.\nCall 920-892-6706 or register online.
URL:https://familyresourcesheboygan.org/event/tummy-time-together/
LOCATION:Zoom Video Conference
CATEGORIES:Parenting Classes
ATTACH;FMTTYPE=image/jpeg:https://familyresourcesheboygan.org/wp-content/uploads/2021/10/tummy-time-together-family-resource-center-sheboygan-county.jpg
ORGANIZER;CN="Family Resource Center":MAILTO:PAT@frc-sc.org
END:VEVENT
END:VCALENDAR