BEGIN:VCALENDAR
VERSION:2.0
PRODID:-//Family Resource Center - ECPv6.15.20//NONSGML v1.0//EN
CALSCALE:GREGORIAN
METHOD:PUBLISH
X-ORIGINAL-URL:https://familyresourcesheboygan.org
X-WR-CALDESC:Events for Family Resource Center
REFRESH-INTERVAL;VALUE=DURATION:PT1H
X-Robots-Tag:noindex
X-PUBLISHED-TTL:PT1H
BEGIN:VTIMEZONE
TZID:America/Chicago
BEGIN:DAYLIGHT
TZOFFSETFROM:-0600
TZOFFSETTO:-0500
TZNAME:CDT
DTSTART:20240310T080000
END:DAYLIGHT
BEGIN:STANDARD
TZOFFSETFROM:-0500
TZOFFSETTO:-0600
TZNAME:CST
DTSTART:20241103T070000
END:STANDARD
BEGIN:DAYLIGHT
TZOFFSETFROM:-0600
TZOFFSETTO:-0500
TZNAME:CDT
DTSTART:20250309T080000
END:DAYLIGHT
BEGIN:STANDARD
TZOFFSETFROM:-0500
TZOFFSETTO:-0600
TZNAME:CST
DTSTART:20251102T070000
END:STANDARD
BEGIN:DAYLIGHT
TZOFFSETFROM:-0600
TZOFFSETTO:-0500
TZNAME:CDT
DTSTART:20260308T080000
END:DAYLIGHT
BEGIN:STANDARD
TZOFFSETFROM:-0500
TZOFFSETTO:-0600
TZNAME:CST
DTSTART:20261101T070000
END:STANDARD
END:VTIMEZONE
BEGIN:VEVENT
DTSTART;TZID=America/Chicago:20250213T180000
DTEND;TZID=America/Chicago:20250213T200000
DTSTAMP:20260425T060118
CREATED:20241202T185859Z
LAST-MODIFIED:20241202T185859Z
UID:5783-1739469600-1739476800@familyresourcesheboygan.org
SUMMARY:Triple P\, Positive Parenting Discussion-Dealing with Disobedience
DESCRIPTION:We all know what it’s like to face that moment when our children just don’t do as they’re told. This discussion group will give some positive parenting strategies to help you teach your child to accept limits\, do as they are told\, and to understand the meaning of the word ‘no’. During this group discussion\, you will meet other parents and share some of your experiences and ideas about managing disobedience. \nThe class is open to the community\, but registration is required by February 6th. \nFOR LAKE COUNTRY ACADEMY FAMILIES ONLY– Childcare is available on a first-come\, first-served basis\, and advanced registration is required. \nCost is free\, but online donations are greatly appreciated. Please click the green “Donate” box above to do this. \n 
URL:https://familyresourcesheboygan.org/event/triple-p-positive-parenting-discussion-dealing-with-disobedience-2/
LOCATION:Lake Country Academy\, 4101 Technology Pkwy\, Sheboygan\, WI\, 53083\, United States
CATEGORIES:Parenting Classes,Parenting Support
ATTACH;FMTTYPE=image/png:https://familyresourcesheboygan.org/wp-content/uploads/2024/12/TRIPLE-P-POSTIVIE-PARENTING-DISCUSSION-Lake-Country.png
END:VEVENT
END:VCALENDAR