BEGIN:VCALENDAR
VERSION:2.0
PRODID:-//Family Resource Center - ECPv6.15.20//NONSGML v1.0//EN
CALSCALE:GREGORIAN
METHOD:PUBLISH
X-WR-CALNAME:Family Resource Center
X-ORIGINAL-URL:https://familyresourcesheboygan.org
X-WR-CALDESC:Events for Family Resource Center
REFRESH-INTERVAL;VALUE=DURATION:PT1H
X-Robots-Tag:noindex
X-PUBLISHED-TTL:PT1H
BEGIN:VTIMEZONE
TZID:America/Chicago
BEGIN:DAYLIGHT
TZOFFSETFROM:-0600
TZOFFSETTO:-0500
TZNAME:CDT
DTSTART:20240310T080000
END:DAYLIGHT
BEGIN:STANDARD
TZOFFSETFROM:-0500
TZOFFSETTO:-0600
TZNAME:CST
DTSTART:20241103T070000
END:STANDARD
BEGIN:DAYLIGHT
TZOFFSETFROM:-0600
TZOFFSETTO:-0500
TZNAME:CDT
DTSTART:20250309T080000
END:DAYLIGHT
BEGIN:STANDARD
TZOFFSETFROM:-0500
TZOFFSETTO:-0600
TZNAME:CST
DTSTART:20251102T070000
END:STANDARD
BEGIN:DAYLIGHT
TZOFFSETFROM:-0600
TZOFFSETTO:-0500
TZNAME:CDT
DTSTART:20260308T080000
END:DAYLIGHT
BEGIN:STANDARD
TZOFFSETFROM:-0500
TZOFFSETTO:-0600
TZNAME:CST
DTSTART:20261101T070000
END:STANDARD
END:VTIMEZONE
BEGIN:VEVENT
DTSTART;TZID=America/Chicago:20250116T180000
DTEND;TZID=America/Chicago:20250116T200000
DTSTAMP:20260425T074421
CREATED:20241202T183054Z
LAST-MODIFIED:20250108T230430Z
UID:5789-1737050400-1737057600@familyresourcesheboygan.org
SUMMARY:Triple P\, Positive Parenting Discussion- Managing Fighting and Aggression
DESCRIPTION:During childhood\, kids often argue with their parents and siblings as they learn how to be assertive while also following the unwritten rules of our society. While quite common\, it can still be challenging to know how to handle this behavior. During this group\, you’ll have the opportunity to meet other parents\, share your experiences with managing aggression &/or sibling conflict\, & learn positive parenting strategies to help you establish family rules\, encourage children to problem-solve\, & how you can deliver effective consequences. \nThe class is open to the community\, but registration is required by January 12th. \nFOR LAKE COUNTRY ACADEMY FAMILIES ONLY– Childcare is available on a first-come\, first-served basis\, and advanced registration is required. \nCost is free\, but online donations are greatly appreciated. Please click the green “Donate” box above to do this. \n 
URL:https://familyresourcesheboygan.org/event/triple-p-positive-parenting-discussion-managing-fighting-and-aggression/
LOCATION:Lake Country Academy\, 4101 Technology Pkwy\, Sheboygan\, WI\, 53083\, United States
CATEGORIES:Parenting Classes,Parenting Support
ATTACH;FMTTYPE=image/png:https://familyresourcesheboygan.org/wp-content/uploads/2024/12/TRIPLE-P-POSTIVIE-PARENTING-DISCUSSION-Lake-Country.png
END:VEVENT
END:VCALENDAR