BEGIN:VCALENDAR
VERSION:2.0
PRODID:-//Family Resource Center - ECPv6.15.20//NONSGML v1.0//EN
CALSCALE:GREGORIAN
METHOD:PUBLISH
X-WR-CALNAME:Family Resource Center
X-ORIGINAL-URL:https://familyresourcesheboygan.org
X-WR-CALDESC:Events for Family Resource Center
REFRESH-INTERVAL;VALUE=DURATION:PT1H
X-Robots-Tag:noindex
X-PUBLISHED-TTL:PT1H
BEGIN:VTIMEZONE
TZID:America/Chicago
BEGIN:DAYLIGHT
TZOFFSETFROM:-0600
TZOFFSETTO:-0500
TZNAME:CDT
DTSTART:20250309T080000
END:DAYLIGHT
BEGIN:STANDARD
TZOFFSETFROM:-0500
TZOFFSETTO:-0600
TZNAME:CST
DTSTART:20251102T070000
END:STANDARD
BEGIN:DAYLIGHT
TZOFFSETFROM:-0600
TZOFFSETTO:-0500
TZNAME:CDT
DTSTART:20260308T080000
END:DAYLIGHT
BEGIN:STANDARD
TZOFFSETFROM:-0500
TZOFFSETTO:-0600
TZNAME:CST
DTSTART:20261101T070000
END:STANDARD
BEGIN:DAYLIGHT
TZOFFSETFROM:-0600
TZOFFSETTO:-0500
TZNAME:CDT
DTSTART:20270314T080000
END:DAYLIGHT
BEGIN:STANDARD
TZOFFSETFROM:-0500
TZOFFSETTO:-0600
TZNAME:CST
DTSTART:20271107T070000
END:STANDARD
END:VTIMEZONE
BEGIN:VEVENT
DTSTART;TZID=America/Chicago:20260505T130000
DTEND;TZID=America/Chicago:20260505T140000
DTSTAMP:20260422T105711
CREATED:20260320T132845Z
LAST-MODIFIED:20260320T132845Z
UID:7612-1777986000-1777989600@familyresourcesheboygan.org
SUMMARY:SENSATIONAL BABIES: Infant Massage 3-Week Series
DESCRIPTION:Learn relaxing massage routines\, identify cues and behavioral states\, and learn methods to stay connected as baby grows. We gradually introduce new strokes over the course of 3 weeks while you build attachment and community with other parents & caregivers. \nFunded through the Sheboygan Service Club\, this is a FREE\,  3-week\, virtual series (all 5 sessions are required- May 5\, 7\,12\, 14\, & 19) from 1:00-2:00 P.M. You just need you and your baby! Class is taught by Certified Educators of Infant Massage (CEIMs). Zoom link will be shared with participants before class. \nRecommended for Infants- 8 weeks-Pre-crawling. Class is open to the public/community. \n(Registration required by May 1st.) \n(Online donations are appreciated and can be made by clicking the green “Donate” box above.) \n 
URL:https://familyresourcesheboygan.org/event/sensational-babies-infant-massage-3-week-series/
LOCATION:Zoom Video Conference
CATEGORIES:Family Activities,Parenting Classes
ATTACH;FMTTYPE=image/png:https://familyresourcesheboygan.org/wp-content/uploads/2024/11/massage.png
END:VEVENT
BEGIN:VEVENT
DTSTART;VALUE=DATE:20260519
DTEND;VALUE=DATE:20260520
DTSTAMP:20260422T105711
CREATED:20220902T151010Z
LAST-MODIFIED:20260326T154155Z
UID:5061-1779148800-1779235199@familyresourcesheboygan.org
SUMMARY:Bitty Book Club
DESCRIPTION:Join us for a free\, interactive toddler book club where facilitators from the Family Resource\nCenter\, Mead Public Library\, and Progressive Beginnings will help make stories come alive with book-themed\nactivities that encourage a child’s motor\, language\, and social development. Our professionally\ntrained Parent Educators and Physical Therapists will point out child developmental milestones\nto watch for\, while building your child’s very own library and literacy skills\, as your child\napproaches kindergarten. \nNo need to register. Take-home books will be available on a first-come\, first-served basis\, courtesy of Mead Public Library. \nWHEN: Third Tuesdays of the Month\, 9:30-10:30 a.m or 4:30-5:30 p.m.\nWHERE: Mead Public Library\, Sheboygan\nWHO: Adult caregivers and children 2-5 years old (Club Open to Public/Community!)\nCOST: FREE
URL:https://familyresourcesheboygan.org/event/bitty-book-club/2026-05-19/
LOCATION:Mead Library\, Sheboygan\, 710 N 8th St\, Sheboygan\, WI\, 53081\, United States
CATEGORIES:Family Activities,Parenting Classes,Playgroup
ATTACH;FMTTYPE=image/jpeg:https://familyresourcesheboygan.org/wp-content/uploads/2022/09/bitty.jpg
ORGANIZER;CN="Family Resource Center":MAILTO:PAT@frc-sc.org
END:VEVENT
END:VCALENDAR