BEGIN:VCALENDAR
VERSION:2.0
PRODID:-//Family Resource Center - ECPv6.15.19//NONSGML v1.0//EN
CALSCALE:GREGORIAN
METHOD:PUBLISH
X-WR-CALNAME:Family Resource Center
X-ORIGINAL-URL:https://familyresourcesheboygan.org
X-WR-CALDESC:Events for Family Resource Center
REFRESH-INTERVAL;VALUE=DURATION:PT1H
X-Robots-Tag:noindex
X-PUBLISHED-TTL:PT1H
BEGIN:VTIMEZONE
TZID:America/Chicago
BEGIN:DAYLIGHT
TZOFFSETFROM:-0600
TZOFFSETTO:-0500
TZNAME:CDT
DTSTART:20220313T080000
END:DAYLIGHT
BEGIN:STANDARD
TZOFFSETFROM:-0500
TZOFFSETTO:-0600
TZNAME:CST
DTSTART:20221106T070000
END:STANDARD
BEGIN:DAYLIGHT
TZOFFSETFROM:-0600
TZOFFSETTO:-0500
TZNAME:CDT
DTSTART:20230312T080000
END:DAYLIGHT
BEGIN:STANDARD
TZOFFSETFROM:-0500
TZOFFSETTO:-0600
TZNAME:CST
DTSTART:20231105T070000
END:STANDARD
BEGIN:DAYLIGHT
TZOFFSETFROM:-0600
TZOFFSETTO:-0500
TZNAME:CDT
DTSTART:20240310T080000
END:DAYLIGHT
BEGIN:STANDARD
TZOFFSETFROM:-0500
TZOFFSETTO:-0600
TZNAME:CST
DTSTART:20241103T070000
END:STANDARD
END:VTIMEZONE
BEGIN:VEVENT
DTSTART;TZID=America/Chicago:20230110T180000
DTEND;TZID=America/Chicago:20230110T200000
DTSTAMP:20260419T161502
CREATED:20221128T212151Z
LAST-MODIFIED:20230105T135508Z
UID:2719-1673373600-1673380800@familyresourcesheboygan.org
SUMMARY:Parenting the Love and Logic Way ® Series
DESCRIPTION:Love allows children to grow through their mistakes. Logic allows them to live with the consequences of their choices.  \nLearn how to: \n\nAvoid power struggles and arguments\nStay calm when your kids do upsetting things\nSet enforceable limits\nAvoid enabling and begin empowering\nLearn how to positively respond to your child’s misbehaviors\nAnd much more!\n\nThis parenting series is designed to give you practical skills that can be used immediately! All caregivers that have children 6 months or older are welcome to sign up. Series meets weekly for four sessions. When registering\, please mark your calendar to attend all sessions\, (Tuesdays\, January 10th\, 17th\, 24th and 31st). \nThis class is offered FREE through the support of the Child Abuse and Neglect Prevention Board. (LCA families that attend all 4 sessions will receive credit towards their required volunteer hours.) \n*Childcare is available at no cost and is based on a first-come\, first-served basis. Registration required.  \nEarly registration available now through December 19th FOR LCA FAMILIES ONLY. Class will be open to the community/public starting December 20th through the class registration deadline of January 3rd\, 2023. \nONLINE REGISTRATION CLOSED\, PLEASE CALL TO REGISTER.
URL:https://familyresourcesheboygan.org/event/parenting-the-love-and-logic-way/
LOCATION:Lake Country Academy\, 4101 Technology Pkwy\, Sheboygan\, WI\, 53083\, United States
CATEGORIES:Parenting Classes
END:VEVENT
BEGIN:VEVENT
DTSTART;TZID=America/Chicago:20230116T170000
DTEND;TZID=America/Chicago:20230116T183000
DTSTAMP:20260419T161502
CREATED:20221118T175606Z
LAST-MODIFIED:20221212T162802Z
UID:2661-1673888400-1673893800@familyresourcesheboygan.org
SUMMARY:Kids in the Kitchen
DESCRIPTION:CLASS IS NOW FULL. IF YOU’D LIKE YOUR NAME ADDED TO OUR WAITLIST\, PLEASE CALL (920) 892-6706. \nAre you running out of ideas for quick and healthy meals for your family? Do you want to include your children in meal preparation\, but aren’t sure how? Well\, bring them along to this exciting\, delicious and educational virtual dinner-making event! You will cook and eat a yummy\, healthy meal with your child and learn what tickles their taste buds! (Suitable for children ages 1 to 4\, accompanied by an adult.) \nFREE through the support of the Child Abuse and Neglect Prevention Board\, but registration is required\, and due by January 9\, 2023. (Online donations are appreciated and can be made by clicking the green box above.) Supplies will be delivered on the day of event. \n(Class Open to Public/Community!) \n  \n 
URL:https://familyresourcesheboygan.org/event/kids-in-the-kitchen-2/
LOCATION:Zoom Video Conference
CATEGORIES:Parenting Classes
ATTACH;FMTTYPE=image/png:https://familyresourcesheboygan.org/wp-content/uploads/2022/11/kk.png
END:VEVENT
END:VCALENDAR