BEGIN:VCALENDAR
VERSION:2.0
PRODID:-//Family Resource Center - ECPv6.15.19//NONSGML v1.0//EN
CALSCALE:GREGORIAN
METHOD:PUBLISH
X-ORIGINAL-URL:https://familyresourcesheboygan.org
X-WR-CALDESC:Events for Family Resource Center
REFRESH-INTERVAL;VALUE=DURATION:PT1H
X-Robots-Tag:noindex
X-PUBLISHED-TTL:PT1H
BEGIN:VTIMEZONE
TZID:America/Chicago
BEGIN:DAYLIGHT
TZOFFSETFROM:-0600
TZOFFSETTO:-0500
TZNAME:CDT
DTSTART:20210314T080000
END:DAYLIGHT
BEGIN:STANDARD
TZOFFSETFROM:-0500
TZOFFSETTO:-0600
TZNAME:CST
DTSTART:20211107T070000
END:STANDARD
BEGIN:DAYLIGHT
TZOFFSETFROM:-0600
TZOFFSETTO:-0500
TZNAME:CDT
DTSTART:20220313T080000
END:DAYLIGHT
BEGIN:STANDARD
TZOFFSETFROM:-0500
TZOFFSETTO:-0600
TZNAME:CST
DTSTART:20221106T070000
END:STANDARD
BEGIN:DAYLIGHT
TZOFFSETFROM:-0600
TZOFFSETTO:-0500
TZNAME:CDT
DTSTART:20230312T080000
END:DAYLIGHT
BEGIN:STANDARD
TZOFFSETFROM:-0500
TZOFFSETTO:-0600
TZNAME:CST
DTSTART:20231105T070000
END:STANDARD
END:VTIMEZONE
BEGIN:VEVENT
DTSTART;TZID=America/Chicago:20221010T180000
DTEND;TZID=America/Chicago:20221010T190000
DTSTAMP:20260419T213458
CREATED:20220916T141756Z
LAST-MODIFIED:20220916T141756Z
UID:2443-1665424800-1665428400@familyresourcesheboygan.org
SUMMARY:Let's Talk Grandkids
DESCRIPTION:Join us and our partners in a 3-part series designed specifically for grandparents! Come for one or all 3\, your choice. \nMonday Sept. 12th 6:00pm-7:00pm\nPart One: Anxiety and Children: Understanding and Supporting Youth in our Lives\nDescription: This session will discuss the different signs of anxiety in children and teens\, different types of anxiety youth experience\, how it can affect behavior\, why it often goes undetected\, what you should do (and not do) when children are anxious\, and how to support the youth in your lives that are struggling with anxiety.\nPresenters: Keegan Rhynas\, Education Coordinator from Mental Health America Lakeshore \nMonday Oct. 10th 6:00om-7:00pm\nPart Two: Reading with your Grandchildren\nDescription: Grab your readers and let’s READ! Ever wonder what is the best way and age to introduce reading to your young grandchild? How to keep your grandchild interested in books? How to include your grandchild in books or topics you’re interested in? Join us for a wonderful evening packed with literacy ideas and information for you to use with grandchildren of all ages.\nPresenters: Renee Wachuta from the Family Resource Center\, Samantha Spottek from the Plymouth Public Library \nMonday Nov. 14th 6:00pm-7:00pm\nPart Three: Technology to Communicate\nDescription: Join us for a media inspired Technology Talk involving your grandchildren as we explore the reality of today’s world and how our grandchildren live in it and with it. We’ll talk about using technology effectively using the 3 C’s-Child\, Content \, and Context. Let’s learn to co-exist and have fun!\nPresenters: Stephanie Klemp and Hank Lieurance from Sargento’s Technology Department\, Renee Wachuta from the Family Resource Center \nRegister by Calling Generations: (920)-892-4858
URL:https://familyresourcesheboygan.org/event/lets-talk-grandkids-2/2022-10-10/
LOCATION:Generations\, an Intergenerational Center\, 1500 Douglas Drive\, Plymouth\, WI\, 53073\, United States
CATEGORIES:Parenting Classes,Parenting Support
ATTACH;FMTTYPE=image/jpeg:https://familyresourcesheboygan.org/wp-content/uploads/2022/03/grandparents2.jpg
END:VEVENT
END:VCALENDAR