BEGIN:VCALENDAR
VERSION:2.0
PRODID:-//Family Resource Center - ECPv6.15.19//NONSGML v1.0//EN
CALSCALE:GREGORIAN
METHOD:PUBLISH
X-WR-CALNAME:Family Resource Center
X-ORIGINAL-URL:https://familyresourcesheboygan.org
X-WR-CALDESC:Events for Family Resource Center
REFRESH-INTERVAL;VALUE=DURATION:PT1H
X-Robots-Tag:noindex
X-PUBLISHED-TTL:PT1H
BEGIN:VTIMEZONE
TZID:America/Chicago
BEGIN:DAYLIGHT
TZOFFSETFROM:-0600
TZOFFSETTO:-0500
TZNAME:CDT
DTSTART:20210314T080000
END:DAYLIGHT
BEGIN:STANDARD
TZOFFSETFROM:-0500
TZOFFSETTO:-0600
TZNAME:CST
DTSTART:20211107T070000
END:STANDARD
BEGIN:DAYLIGHT
TZOFFSETFROM:-0600
TZOFFSETTO:-0500
TZNAME:CDT
DTSTART:20220313T080000
END:DAYLIGHT
BEGIN:STANDARD
TZOFFSETFROM:-0500
TZOFFSETTO:-0600
TZNAME:CST
DTSTART:20221106T070000
END:STANDARD
BEGIN:DAYLIGHT
TZOFFSETFROM:-0600
TZOFFSETTO:-0500
TZNAME:CDT
DTSTART:20230312T080000
END:DAYLIGHT
BEGIN:STANDARD
TZOFFSETFROM:-0500
TZOFFSETTO:-0600
TZNAME:CST
DTSTART:20231105T070000
END:STANDARD
END:VTIMEZONE
BEGIN:VEVENT
DTSTART;TZID=America/Chicago:20220808T140000
DTEND;TZID=America/Chicago:20220808T153000
DTSTAMP:20260420T004457
CREATED:20220516T224528Z
LAST-MODIFIED:20220516T224528Z
UID:1932-1659967200-1659972600@familyresourcesheboygan.org
SUMMARY:Triple P Positive Parenting Seminar: Raising Confident\, Competent Children
DESCRIPTION:As parents and caregivers we all want our children to grow to be confident and competent in the world\, but at times this task can feel intimidating. This seminar will give you ideas on how to teach your child(ren) important life skills such as being respectful and considerate\, communicating well with others\, thinking positively\, being independent and developing a healthy self-concept. \nRegistration by August 1st is required\, but is FREE through the support of the Child Abuse and Neglect Prevention Board. (Online donations are appreciated! Please click the green tab at the top of the page.) \n 
URL:https://familyresourcesheboygan.org/event/triple-p-positive-parenting-seminar-raising-confident-competent-children/
LOCATION:Generations\, an Intergenerational Center\, 1500 Douglas Drive\, Plymouth\, WI\, 53073\, United States
CATEGORIES:Parenting Classes,Parenting Support
ATTACH;FMTTYPE=image/png:https://familyresourcesheboygan.org/wp-content/uploads/2022/01/triple-p-positive-parenting-program-family-resource-center-sheboygan.png
ORGANIZER;CN="Family Resource Center":MAILTO:PAT@frc-sc.org
END:VEVENT
END:VCALENDAR