BEGIN:VCALENDAR
VERSION:2.0
PRODID:-//Family Resource Center - ECPv6.15.19//NONSGML v1.0//EN
CALSCALE:GREGORIAN
METHOD:PUBLISH
X-ORIGINAL-URL:https://familyresourcesheboygan.org
X-WR-CALDESC:Events for Family Resource Center
REFRESH-INTERVAL;VALUE=DURATION:PT1H
X-Robots-Tag:noindex
X-PUBLISHED-TTL:PT1H
BEGIN:VTIMEZONE
TZID:America/Chicago
BEGIN:DAYLIGHT
TZOFFSETFROM:-0600
TZOFFSETTO:-0500
TZNAME:CDT
DTSTART:20210314T080000
END:DAYLIGHT
BEGIN:STANDARD
TZOFFSETFROM:-0500
TZOFFSETTO:-0600
TZNAME:CST
DTSTART:20211107T070000
END:STANDARD
BEGIN:DAYLIGHT
TZOFFSETFROM:-0600
TZOFFSETTO:-0500
TZNAME:CDT
DTSTART:20220313T080000
END:DAYLIGHT
BEGIN:STANDARD
TZOFFSETFROM:-0500
TZOFFSETTO:-0600
TZNAME:CST
DTSTART:20221106T070000
END:STANDARD
BEGIN:DAYLIGHT
TZOFFSETFROM:-0600
TZOFFSETTO:-0500
TZNAME:CDT
DTSTART:20230312T080000
END:DAYLIGHT
BEGIN:STANDARD
TZOFFSETFROM:-0500
TZOFFSETTO:-0600
TZNAME:CST
DTSTART:20231105T070000
END:STANDARD
END:VTIMEZONE
BEGIN:VEVENT
DTSTART;TZID=America/Chicago:20220418T110000
DTEND;TZID=America/Chicago:20220418T120000
DTSTAMP:20260420T073454
CREATED:20220311T175623Z
LAST-MODIFIED:20220314T143118Z
UID:1635-1650279600-1650283200@familyresourcesheboygan.org
SUMMARY:Let's Talk Grandkids
DESCRIPTION:Why are grandkids different today than young kids from years ago? Expectations of milestones have come a long way and are very important for child development. Join us for a guided conversation about differences and similarities in the generations of today vs. the generations of years ago. \nFree through the support of the Child Abuse and Neglect Prevention Board. Online donations appreciated! \nRegistration is preferred\, (online or by calling 920-892-6706) by April 13\, 2022\, but walk-ins are welcome.
URL:https://familyresourcesheboygan.org/event/lets-talk-grandkids/
LOCATION:Generations\, an Intergenerational Center\, 1500 Douglas Drive\, Plymouth\, WI\, 53073\, United States
CATEGORIES:Parenting Classes,Parenting Support
ATTACH;FMTTYPE=image/jpeg:https://familyresourcesheboygan.org/wp-content/uploads/2022/03/grandparents2.jpg
ORGANIZER;CN="Family Resource Center":MAILTO:PAT@frc-sc.org
END:VEVENT
END:VCALENDAR