BEGIN:VCALENDAR
VERSION:2.0
PRODID:-//Family Resource Center - ECPv6.15.19//NONSGML v1.0//EN
CALSCALE:GREGORIAN
METHOD:PUBLISH
X-ORIGINAL-URL:https://familyresourcesheboygan.org
X-WR-CALDESC:Events for Family Resource Center
REFRESH-INTERVAL;VALUE=DURATION:PT1H
X-Robots-Tag:noindex
X-PUBLISHED-TTL:PT1H
BEGIN:VTIMEZONE
TZID:America/Chicago
BEGIN:DAYLIGHT
TZOFFSETFROM:-0600
TZOFFSETTO:-0500
TZNAME:CDT
DTSTART:20210314T080000
END:DAYLIGHT
BEGIN:STANDARD
TZOFFSETFROM:-0500
TZOFFSETTO:-0600
TZNAME:CST
DTSTART:20211107T070000
END:STANDARD
BEGIN:DAYLIGHT
TZOFFSETFROM:-0600
TZOFFSETTO:-0500
TZNAME:CDT
DTSTART:20220313T080000
END:DAYLIGHT
BEGIN:STANDARD
TZOFFSETFROM:-0500
TZOFFSETTO:-0600
TZNAME:CST
DTSTART:20221106T070000
END:STANDARD
BEGIN:DAYLIGHT
TZOFFSETFROM:-0600
TZOFFSETTO:-0500
TZNAME:CDT
DTSTART:20230312T080000
END:DAYLIGHT
BEGIN:STANDARD
TZOFFSETFROM:-0500
TZOFFSETTO:-0600
TZNAME:CST
DTSTART:20231105T070000
END:STANDARD
END:VTIMEZONE
BEGIN:VEVENT
DTSTART;TZID=America/Chicago:20220321T170000
DTEND;TZID=America/Chicago:20220321T183000
DTSTAMP:20260420T093416
CREATED:20220303T201721Z
LAST-MODIFIED:20220316T130931Z
UID:1574-1647882000-1647887400@familyresourcesheboygan.org
SUMMARY:Kids in the Kitchen - A Helping Hand
DESCRIPTION:Are you running out of ideas for quick and healthy meals for your family? Do you want to include your children in meal preparation but not sure how? Well\, bring them along to this exciting\, delicious and educational virtual dinner-making event! You will cook and eat a yummy\, healthy meal with your child and learn what tickles their taste buds! \nThis is a virtual\, Zoom event you participate in from your own kitchen. The Zoom link will be sent after registration\, closer to date of event. Supplies will be delivered. Suitable for children age 1 to 4 years\, accompanied by an adult. \nFree through the support of the Child Abuse and Neglect Prevention Board\, as well as the Kohler Foundation. Online donations appreciated! \nRegistration required by Tuesday March 15th.
URL:https://familyresourcesheboygan.org/event/kids-in-the-kitchen/
LOCATION:Zoom Video Conference
CATEGORIES:Parenting Classes,Parenting Support
ATTACH;FMTTYPE=image/jpeg:https://familyresourcesheboygan.org/wp-content/uploads/2022/02/kids-in-the-kitchen-family-resource-center-sheboygan-county.jpg
ORGANIZER;CN="Family Resource Center":MAILTO:PAT@frc-sc.org
END:VEVENT
END:VCALENDAR