BEGIN:VCALENDAR
VERSION:2.0
PRODID:-//Family Resource Center - ECPv6.15.19//NONSGML v1.0//EN
CALSCALE:GREGORIAN
METHOD:PUBLISH
X-WR-CALNAME:Family Resource Center
X-ORIGINAL-URL:https://familyresourcesheboygan.org
X-WR-CALDESC:Events for Family Resource Center
REFRESH-INTERVAL;VALUE=DURATION:PT1H
X-Robots-Tag:noindex
X-PUBLISHED-TTL:PT1H
BEGIN:VTIMEZONE
TZID:America/Chicago
BEGIN:DAYLIGHT
TZOFFSETFROM:-0600
TZOFFSETTO:-0500
TZNAME:CDT
DTSTART:20240310T080000
END:DAYLIGHT
BEGIN:STANDARD
TZOFFSETFROM:-0500
TZOFFSETTO:-0600
TZNAME:CST
DTSTART:20241103T070000
END:STANDARD
BEGIN:DAYLIGHT
TZOFFSETFROM:-0600
TZOFFSETTO:-0500
TZNAME:CDT
DTSTART:20250309T080000
END:DAYLIGHT
BEGIN:STANDARD
TZOFFSETFROM:-0500
TZOFFSETTO:-0600
TZNAME:CST
DTSTART:20251102T070000
END:STANDARD
BEGIN:DAYLIGHT
TZOFFSETFROM:-0600
TZOFFSETTO:-0500
TZNAME:CDT
DTSTART:20260308T080000
END:DAYLIGHT
BEGIN:STANDARD
TZOFFSETFROM:-0500
TZOFFSETTO:-0600
TZNAME:CST
DTSTART:20261101T070000
END:STANDARD
END:VTIMEZONE
BEGIN:VEVENT
DTSTART;VALUE=DATE:20250812
DTEND;VALUE=DATE:20250813
DTSTAMP:20260419T191039
CREATED:20240806T210442Z
LAST-MODIFIED:20260324T225050Z
UID:5193-1754956800-1755043199@familyresourcesheboygan.org
SUMMARY:Bring Your Own Baby (BYOB)
DESCRIPTION:Join parents\, caregivers\, and kiddos ages 0-2 y/o to socialize\, learn\, and play. The program is led by therapists and educators from our staff\, Family Connections\, and Progressive Beginnings\, and features an interactive sensory play experience that is just right for this age group. Each playgroup will feature a different theme/topic and is generally held on the 2nd Tuesday of the month\, and is held at MEAD PUBLIC LIBRARY. \nAvailable sessions are either 9:30-10:30 am OR 4:30-5:30 pm \nRegistration is no longer required!
URL:https://familyresourcesheboygan.org/event/bring-your-own-baby-byob-2/2025-08-12/
LOCATION:Mead Library\, Sheboygan\, 710 N 8th St\, Sheboygan\, WI\, 53081\, United States
CATEGORIES:Family Activities,Playgroup
ATTACH;FMTTYPE=image/jpeg:https://familyresourcesheboygan.org/wp-content/uploads/2021/12/BYOB3.jpg
END:VEVENT
BEGIN:VEVENT
DTSTART;TZID=America/Chicago:20250814T093000
DTEND;TZID=America/Chicago:20250814T103000
DTSTAMP:20260419T191039
CREATED:20231013T160945Z
LAST-MODIFIED:20260326T153537Z
UID:6636-1755163800-1755167400@familyresourcesheboygan.org
SUMMARY:Tiny Tots Playgroup
DESCRIPTION:Tiny Tots Playgroups offer an unstructured play experience for children and parents/caregivers at no cost to families. We have the space and the toys\, you bring the littles! (For children 0-3 years of age.) No registration required. \nSnack provided after play. \nGenerally held on the 2ND THURSDAY of the month\, with the exception of holidays or special event closures. (See calendar for the specifics.) \n(Meet in the Children’s Library.)
URL:https://familyresourcesheboygan.org/event/tiny-tots-playgroup-2/2025-08-14/
LOCATION:Plymouth Public Library\, 130 Division Street\, Plymouth\, WI\, 53073\, United States
CATEGORIES:Family Activities,Playgroup
ATTACH;FMTTYPE=image/jpeg:https://familyresourcesheboygan.org/wp-content/uploads/2023/05/playgroup.jpg
END:VEVENT
BEGIN:VEVENT
DTSTART;VALUE=DATE:20250819
DTEND;VALUE=DATE:20250820
DTSTAMP:20260419T191039
CREATED:20220902T151010Z
LAST-MODIFIED:20260326T154148Z
UID:4018-1755561600-1755647999@familyresourcesheboygan.org
SUMMARY:Bitty Book Club
DESCRIPTION:Join us for a free\, interactive toddler book club where facilitators from the Family Resource\nCenter\, Mead Public Library\, and Progressive Beginnings will help make stories come alive with book-themed\nactivities that encourage a child’s motor\, language\, and social development. Our professionally\ntrained Parent Educators and Physical Therapists will point out child developmental milestones\nto watch for\, while building your child’s very own library and literacy skills\, as your child\napproaches kindergarten. \nNo need to register. Take-home books will be available on a first-come\, first-served basis\, courtesy of Mead Public Library. \nWHEN: Third Tuesdays of the Month\, 9:30-10:30 a.m or 4:30-5:30 p.m.\nWHERE: Mead Public Library\, Sheboygan\nWHO: Adult caregivers and children 2-5 years old (Club Open to Public/Community!)\nCOST: FREE
URL:https://familyresourcesheboygan.org/event/bitty-book-club/2025-08-19/
LOCATION:Mead Library\, Sheboygan\, 710 N 8th St\, Sheboygan\, WI\, 53081\, United States
CATEGORIES:Family Activities,Parenting Classes,Playgroup
ATTACH;FMTTYPE=image/jpeg:https://familyresourcesheboygan.org/wp-content/uploads/2022/09/bitty.jpg
ORGANIZER;CN="Family Resource Center":MAILTO:PAT@frc-sc.org
END:VEVENT
BEGIN:VEVENT
DTSTART;TZID=America/Chicago:20250828T140000
DTEND;TZID=America/Chicago:20250828T150000
DTSTAMP:20260419T191039
CREATED:20250509T173542Z
LAST-MODIFIED:20250509T173542Z
UID:6477-1756389600-1756393200@familyresourcesheboygan.org
SUMMARY:SENSATIONAL BABIES: Infant Massage 5-Week Series
DESCRIPTION:Learn relaxing massage routines\, identify cues and behavioral states\, and learn methods to stay connected as baby grows. We gradually introduce new strokes over the course of 5 weeks while you build attachment and community with other parents & caregivers. \nFREE\,  5-week session (all 5 Thursdays are required- August 28\, 2025- September 25\, 2025) 2:00 P.M.-3:00 P.M. You just need you and your baby! Class is taught by Certified Educators of Infant Massage (CEIMs). \nRecommended for Infants- 8 weeks-Pre-crawling. Class is open to the public/community. \n(Registration required by August 22\, 2025.) \n(Online donations are appreciated and can be made by clicking the green “Donate” box above.) \n 
URL:https://familyresourcesheboygan.org/event/sensational-babies-infant-massage-5-week-series-8/
LOCATION:Family Connections\, 2508 S. 8th Street\, Sheboygan\, WI\, United States
CATEGORIES:Family Activities,Parenting Classes
ATTACH;FMTTYPE=image/png:https://familyresourcesheboygan.org/wp-content/uploads/2024/11/massage.png
END:VEVENT
END:VCALENDAR